BEGIN:VCALENDAR
VERSION:2.0
PRODID:-//LehmBauTreff - ECPv6.15.20//NONSGML v1.0//EN
CALSCALE:GREGORIAN
METHOD:PUBLISH
X-WR-CALNAME:LehmBauTreff
X-ORIGINAL-URL:https://lehmbautreff.de
X-WR-CALDESC:Veranstaltungen für LehmBauTreff
REFRESH-INTERVAL;VALUE=DURATION:PT1H
X-Robots-Tag:noindex
X-PUBLISHED-TTL:PT1H
BEGIN:VTIMEZONE
TZID:Europe/Berlin
BEGIN:DAYLIGHT
TZOFFSETFROM:+0100
TZOFFSETTO:+0200
TZNAME:CEST
DTSTART:20250330T010000
END:DAYLIGHT
BEGIN:STANDARD
TZOFFSETFROM:+0200
TZOFFSETTO:+0100
TZNAME:CET
DTSTART:20251026T010000
END:STANDARD
BEGIN:DAYLIGHT
TZOFFSETFROM:+0100
TZOFFSETTO:+0200
TZNAME:CEST
DTSTART:20260329T010000
END:DAYLIGHT
BEGIN:STANDARD
TZOFFSETFROM:+0200
TZOFFSETTO:+0100
TZNAME:CET
DTSTART:20261025T010000
END:STANDARD
BEGIN:DAYLIGHT
TZOFFSETFROM:+0100
TZOFFSETTO:+0200
TZNAME:CEST
DTSTART:20270328T010000
END:DAYLIGHT
BEGIN:STANDARD
TZOFFSETFROM:+0200
TZOFFSETTO:+0100
TZNAME:CET
DTSTART:20271031T010000
END:STANDARD
END:VTIMEZONE
BEGIN:VEVENT
DTSTART;TZID=Europe/Berlin:20260520T160000
DTEND;TZID=Europe/Berlin:20260520T173000
DTSTAMP:20260420T044522
CREATED:20260204T205943Z
LAST-MODIFIED:20260415T131412Z
UID:3397-1779292800-1779298200@lehmbautreff.de
SUMMARY:LehmBauTreff 48: Lehm verbindet
DESCRIPTION:Vernetzen\, Wissen teilen\, Lehmbau stärken \n\n\n\nMit großer Freude begrüßen wir bei unserem nächsten LehmBauTreff Margit Geiger – eine prägende Persönlichkeit in der deutschsprachigen Lehmbau-Szene. \n\n\n\nAls Initiatorin des Lehmbau Symposiums in Chur hat sie eine Plattform geschaffen\, die Fachleute\, Planer:innen und Ausführende zusammenbringt und den Austausch über nachhaltiges Bauen mit Lehm auf ein neues Niveau hebt. Darüber hinaus ist sie maßgeblich an der Entwicklung und Etablierung der Weiterbildung zur Fachperson Lehmbau beteiligt und setzt sich mit großem Engagement für die Qualifizierung und Vernetzung in diesem Bereich ein. \n\n\n\nIn ihrem Beitrag gibt sie Einblicke in die Entstehung und Entwicklung des Lehmbau Symposiums\, berichtet von ihren Erfahrungen in der Bildungsarbeit und zeigt auf\, welche Rolle gemeinschaftliche Initiativen für die Bauwende spielen können. \n\n\n\n\n\n\n\nWir freuen uns auf einen inspirierenden Abend mit einer engagierten Netzwerkerin\, die den Lehmbau mit viel Herz und Weitblick voranbringt. \n\n\n\nMelde dich gleich hier an und erhalte den Zoom-Link direkt zugeschickt! \n\n\n\nWir freuen uns auf euch. \n\n\n\n\nANMELDEN
URL:https://lehmbautreff.de/veranstaltung/lehmbautreff-48-maiausgabe/
ATTACH;FMTTYPE=image/png:https://lehmbautreff.de/wp-content/uploads/2026/02/Titelpost.png
END:VEVENT
BEGIN:VEVENT
DTSTART;TZID=Europe/Berlin:20260617T160000
DTEND;TZID=Europe/Berlin:20260617T173000
DTSTAMP:20260420T044522
CREATED:20260204T210110Z
LAST-MODIFIED:20260413T185034Z
UID:3400-1781712000-1781717400@lehmbautreff.de
SUMMARY:LehmBauTreff 49: LBT meets DownToEarth-Talks
DESCRIPTION:Weitere Infos zum Kooperations-Treff mit DownToEarth-Talks folgen in Kürze…
URL:https://lehmbautreff.de/veranstaltung/lehmbautreff-49-juniausgabe/
END:VEVENT
BEGIN:VEVENT
DTSTART;TZID=Europe/Berlin:20260715T160000
DTEND;TZID=Europe/Berlin:20260715T173000
DTSTAMP:20260420T044522
CREATED:20260204T210300Z
LAST-MODIFIED:20260204T210329Z
UID:3402-1784131200-1784136600@lehmbautreff.de
SUMMARY:LehmBauTreff 50: (Juliausgabe)
DESCRIPTION:Infos folgen…
URL:https://lehmbautreff.de/veranstaltung/lehmbautreff-50-juliausgabe/
END:VEVENT
BEGIN:VEVENT
DTSTART;TZID=Europe/Berlin:20260909T160000
DTEND;TZID=Europe/Berlin:20260909T173000
DTSTAMP:20260420T044522
CREATED:20260204T210442Z
LAST-MODIFIED:20260204T210448Z
UID:3404-1788969600-1788975000@lehmbautreff.de
SUMMARY:LehmBauTreff 51: (Septemberausgabe)
DESCRIPTION:Infos folgen…
URL:https://lehmbautreff.de/veranstaltung/lehmbautreff-51-septemberausgabe/
END:VEVENT
BEGIN:VEVENT
DTSTART;TZID=Europe/Berlin:20261014T160000
DTEND;TZID=Europe/Berlin:20261014T173000
DTSTAMP:20260420T044522
CREATED:20260204T210544Z
LAST-MODIFIED:20260204T210545Z
UID:3406-1791993600-1791999000@lehmbautreff.de
SUMMARY:LehmBauTreff 52: (Oktoberausgabe)
DESCRIPTION:Infos folgen…
URL:https://lehmbautreff.de/veranstaltung/lehmbautreff-52-oktoberausgabe/
END:VEVENT
BEGIN:VEVENT
DTSTART;TZID=Europe/Berlin:20261111T160000
DTEND;TZID=Europe/Berlin:20261111T173000
DTSTAMP:20260420T044522
CREATED:20260204T210716Z
LAST-MODIFIED:20260204T210716Z
UID:3408-1794412800-1794418200@lehmbautreff.de
SUMMARY:LehmBauTreff 53: (Novemberausgabe)
DESCRIPTION:Infos folgen…
URL:https://lehmbautreff.de/veranstaltung/lehmbautreff-53-novemberausgabe/
END:VEVENT
BEGIN:VEVENT
DTSTART;TZID=Europe/Berlin:20261209T160000
DTEND;TZID=Europe/Berlin:20261209T173000
DTSTAMP:20260420T044522
CREATED:20260204T210910Z
LAST-MODIFIED:20260204T210911Z
UID:3410-1796832000-1796837400@lehmbautreff.de
SUMMARY:LehmBauTreff 54: (Dezemberausgabe)
DESCRIPTION:Infos folgen…
URL:https://lehmbautreff.de/veranstaltung/lehmbautreff-54-dezemberausgabe/
END:VEVENT
END:VCALENDAR